BEGIN:VCALENDAR
VERSION:2.0
PRODID:-//Le musée des pompiers de La Réunion - ECPv6.15.20//NONSGML v1.0//EN
CALSCALE:GREGORIAN
METHOD:PUBLISH
X-WR-CALNAME:Le musée des pompiers de La Réunion
X-ORIGINAL-URL:https://www.lemuseedespompiers.re
X-WR-CALDESC:Évènements pour Le musée des pompiers de La Réunion
REFRESH-INTERVAL;VALUE=DURATION:PT1H
X-Robots-Tag:noindex
X-PUBLISHED-TTL:PT1H
BEGIN:VTIMEZONE
TZID:Europe/Paris
BEGIN:DAYLIGHT
TZOFFSETFROM:+0100
TZOFFSETTO:+0200
TZNAME:CEST
DTSTART:20250330T010000
END:DAYLIGHT
BEGIN:STANDARD
TZOFFSETFROM:+0200
TZOFFSETTO:+0100
TZNAME:CET
DTSTART:20251026T010000
END:STANDARD
BEGIN:DAYLIGHT
TZOFFSETFROM:+0100
TZOFFSETTO:+0200
TZNAME:CEST
DTSTART:20260329T010000
END:DAYLIGHT
BEGIN:STANDARD
TZOFFSETFROM:+0200
TZOFFSETTO:+0100
TZNAME:CET
DTSTART:20261025T010000
END:STANDARD
BEGIN:DAYLIGHT
TZOFFSETFROM:+0100
TZOFFSETTO:+0200
TZNAME:CEST
DTSTART:20270328T010000
END:DAYLIGHT
BEGIN:STANDARD
TZOFFSETFROM:+0200
TZOFFSETTO:+0100
TZNAME:CET
DTSTART:20271031T010000
END:STANDARD
END:VTIMEZONE
BEGIN:VEVENT
DTSTART;TZID=Europe/Paris:20260429T180000
DTEND;TZID=Europe/Paris:20260429T200000
DTSTAMP:20260421T160339
CREATED:20260328T081624Z
LAST-MODIFIED:20260403T132204Z
UID:1684-1777485600-1777492800@www.lemuseedespompiers.re
SUMMARY:Conférence – 11 septembre : analyse opérationnelle et effondrement des tours Intervention de Michel Barjolin
DESCRIPTION:Le 29 avril\, de 18h à 20h\, Michel Barjolin propose une conférence consacrée aux attentats du Attentats du 11 septembre 2001\, abordés sous un angle technique\, structurel et opérationnel. \nCette intervention s’adresse en priorité aux sapeurs-pompiers et acteurs de la sécurité civile souhaitant dépasser l’approche médiatique pour comprendre les mécanismes réels de l’événement. \nContenu de la conférence : \n\nLes prémices des attentats\nLa conception des tours du World Trade Center\nLe déroulé des opérations\nL’analyse structurelle des effondrements\nL’examen critique des théories complotistes\nLes liens avec les enjeux contemporains\n\nInformations pratiques : \n\nLieu : Université Catholique de l’Ouest – site de La Réunion\, 46 boulevard de la Trinité\, 97400 Saint-Denis\nHoraires : 18h00 – 20h00\nAccès : gratuit\nContraintes : nombre de places limité\, liste des participants arrêtée avant le 15 avril\n\nL’inscription via cet événement permet de constituer la liste transmise à l’organisateur. Toute demande au-delà de la capacité retenue ne pourra être prise en compte.
URL:https://www.lemuseedespompiers.re/index.php/event/conference-11-septembre-analyse-operationnelle-et-effondrement-des-tours-intervention-de-michel-barjolin/
LOCATION:Université Catholique de l’Ouest (UCO)\, 46 boulevard de la Trinité\, Saint-Denis\, 97400\, Reunion
ATTACH;FMTTYPE=image/jpeg:https://www.lemuseedespompiers.re/wp-content/uploads/2026/03/IMG-20260402-WA0003.jpg
END:VEVENT
END:VCALENDAR